BEGIN:VCALENDAR
VERSION:2.0
PRODID:-//Florida Security Licensing &amp; Firearms Defensive Training - ECPv6.3.2//NONSGML v1.0//EN
CALSCALE:GREGORIAN
METHOD:PUBLISH
X-WR-CALNAME:Florida Security Licensing &amp; Firearms Defensive Training
X-ORIGINAL-URL:https://floridasecuritylicense.org
X-WR-CALDESC:Events for Florida Security Licensing &amp; Firearms Defensive Training
REFRESH-INTERVAL;VALUE=DURATION:PT1H
X-Robots-Tag:noindex
X-PUBLISHED-TTL:PT1H
BEGIN:VTIMEZONE
TZID:America/New_York
BEGIN:DAYLIGHT
TZOFFSETFROM:-0500
TZOFFSETTO:-0400
TZNAME:EDT
DTSTART:20260308T070000
END:DAYLIGHT
BEGIN:STANDARD
TZOFFSETFROM:-0400
TZOFFSETTO:-0500
TZNAME:EST
DTSTART:20261101T060000
END:STANDARD
END:VTIMEZONE
BEGIN:VEVENT
DTSTART;TZID=America/New_York:20260511T080000
DTEND;TZID=America/New_York:20260514T180000
DTSTAMP:20260423T052949
CREATED:20260303T181325Z
LAST-MODIFIED:20260303T181325Z
UID:10000586-1778486400-1778781600@floridasecuritylicense.org
SUMMARY:Security Officer License D Orlando
DESCRIPTION:Class “D” Security Officer License Requirements\n\n\nAny individual who performs the services of a security officer must have a Class “D” license. \nEligibility Requirements for your security license:\nTo qualify for a license\, you must: \n\nBe at least 18 years old.\nBe a citizen or legal resident alien of the United States or have been granted authority to work in this country by the Department of Homeland Security\, U.S. Citizenship and Immigration Services.\n\nTraining/Experience\nYou must submit proof of successful completion of a minimum of 40 hours of professional training provided by a security officer school or training facility licensed by the Florida Department of Agriculture and Consumer Services. \nExceptions: \n\nIf you are a currently employed law enforcement officer\, correctional officer\, or correctional probation officer certified by the Florida Department of Law Enforcement’s Criminal Justice Standards and Training Commission\, a copy of your valid ID card issued by your employing law enforcement agency is sufficient to satisfy the training requirement.\nIf you have successfully completed a training program approved by the Florida Criminal Justice Standards and Training Commission for certification as a law enforcement officer\, correctional officer\, or correctional probation officer\, a copy of your certificate of completion is sufficient to satisfy the training requirement.\nIf you qualify for a Class “DI” security officer instructor license under Rule 5N-1.138(1)(e)-(g)\, Florida Administrative Code\, proof of such qualification is sufficient to satisfy the training requirement.\nIf you received relevant military training or education during service in the United States Armed Forces\, proof of such training or education is sufficient to satisfy the training requirement.\n\n\n\n\nThis State of Florida 42 hours course meets the State Curriculum and Certification required to obtain the Security Officer Unarmed D License. This course is provided by a Security Officer Training Facility licensed by the Department of Agriculture and Consumer Services. The instructor holds a DI license to teach and certify you once you complete the required curriculum and upon successful completion of the course testing. \n\n\nOur package consists of the following: 40 hours of coursework\, exam review\, and 2 hours of exam. To learn more or register click here for your license D.\n\n\n\nFollow us on Facebook
URL:https://floridasecuritylicense.org/course/security-officer-license-d-orlando-12/
LOCATION:Orlando\, 1221 Colonial Drive\, Orlando\, 32804\, United States
CATEGORIES:Orlando
ATTACH;FMTTYPE=image/png:https://floridasecuritylicense.org/wp-content/uploads/2023/05/Security-Officer-D-license.png
ORGANIZER;CN="Instructor Carlos Fojo":MAILTO:instructor@securitylicense.com
END:VEVENT
END:VCALENDAR