BEGIN:VCALENDAR
VERSION:2.0
PRODID:-//Florida Security Licensing &amp; Firearms Defensive Training - ECPv6.3.2//NONSGML v1.0//EN
CALSCALE:GREGORIAN
METHOD:PUBLISH
X-ORIGINAL-URL:https://floridasecuritylicense.org
X-WR-CALDESC:Events for Florida Security Licensing &amp; Firearms Defensive Training
REFRESH-INTERVAL;VALUE=DURATION:PT1H
X-Robots-Tag:noindex
X-PUBLISHED-TTL:PT1H
BEGIN:VTIMEZONE
TZID:America/New_York
BEGIN:DAYLIGHT
TZOFFSETFROM:-0500
TZOFFSETTO:-0400
TZNAME:EDT
DTSTART:20250309T070000
END:DAYLIGHT
BEGIN:STANDARD
TZOFFSETFROM:-0400
TZOFFSETTO:-0500
TZNAME:EST
DTSTART:20251102T060000
END:STANDARD
END:VTIMEZONE
BEGIN:VEVENT
DTSTART;TZID=America/New_York:20250609T080000
DTEND;TZID=America/New_York:20250609T170000
DTSTAMP:20260423T065959
CREATED:20250604T172408Z
LAST-MODIFIED:20250604T180027Z
UID:10000429-1749456000-1749488400@floridasecuritylicense.org
SUMMARY:Security License D ONLINE 6 pm-11 pm week 2
DESCRIPTION:Security Officer License D class online 4 day course (10 hours a day or 5 days 8 hours excluding any breaks). See Home page for schedule. Daytime course.\nEvening courses are offered several times a year. The evening course is a 2 weeks training Monday-Friday 6pm-11pm (40 hours)\nSecurity Officer License D Online course is regulated by the State of Florida Department of Agriculture and Consumer Services Division of Licensing. The security course consists of 40 hours of course work and 2 hours for the 170 questions exam. The security D license course includes an exam review and exam. \nNote: Students must be highly dedicated and responsible for the instruction of this class. This course requires the successful passing of a 170 questions exam with a 75% final score. If you must retake the exam there is a $50.00 retake fee. \nNOTE: The online version of the class D license course is strictly a proctored powerpoint based program. Our in-person class D program is a combination of power point and instructor/student interaction.  \nClass “D” Security Officer License Requirements\n  \n\n\nAny individual who performs the services of a security officer must have a Class “D” license. \nSecurity Officer Unarmed D License State of Florida Department of Agriculture Division of Licensing course consists of 40 hours of course work and 2 hours for your 170 questions exam. This course is proctored and the student must be present in class on the platform utilized with a live feed showing yourself during the entire class. \nSave your spot and click to REGISTER NOW!\nEligibility Requirements for Security Officer License D\nTo qualify for a license\, you must: \n\nBe at least 18 years old.\nBe a citizen or legal resident alien of the United States or have been granted authority to work in this country by the Department of Homeland Security\, U.S. Citizenship and Immigration Services.\n\nTraining/Experience\nYou must submit proof of successful completion of a minimum of 40 hours of professional training provided by a security officer school or training facility licensed by the Florida Department of Agriculture and Consumer Services. \nExceptions: \n\nIf you are a currently employed law enforcement officer\, correctional officer\, or correctional probation officer certified by the Florida Department of Law Enforcement’s Criminal Justice Standards and Training Commission\, a copy of your valid ID card issued by your employing law enforcement agency is sufficient to satisfy the training requirement.\nIf you have successfully completed a training program approved by the Florida Criminal Justice Standards and Training Commission for certification as a law enforcement officer\, correctional officer\, or correctional probation officer\, a copy of your certificate of completion is sufficient to satisfy the training requirement.\nIf you qualify for a Class “DI” security officer instructor license under Rule 5N-1.138(1)(e)-(g)\, Florida Administrative Code\, proof of such qualification is sufficient to satisfy the training requirement.\nIf you received relevant military training or education during service in the United States Armed Forces\, proof of such training or education is sufficient to satisfy the training requirement.\n\n\n\n\nThis State of Florida 40 hours course and 2 hours exam time meets the State Curriculum and Certification required to obtain the Security Officer Unarmed D License. This course is provided by a Security Officer Training Facility licensed by the Department of Agriculture and Consumer Services. The instructor holds a DI license to teach and certify you once you complete the required curriculum and upon successful completion of the course testing. \n\n\nOur training consists of the following: 40 hours of coursework\, exam review\, and 2 hours of exam. \n\n\n\nFollow us on Facebook
URL:https://floridasecuritylicense.org/course/security-license-d-online-6-pm-11-pm-week-2/2025-06-09/
LOCATION:Online\, United States
ATTACH;FMTTYPE=image/jpeg:https://floridasecuritylicense.org/wp-content/uploads/2023/05/Web-pic-2.jpg
ORGANIZER;CN="Instructor Carlos Fojo":MAILTO:instructor@securitylicense.com
END:VEVENT
BEGIN:VEVENT
DTSTART;TZID=America/New_York:20250609T080000
DTEND;TZID=America/New_York:20250609T170000
DTSTAMP:20260423T065959
CREATED:20250102T234830Z
LAST-MODIFIED:20250604T165704Z
UID:10000425-1749456000-1749488400@floridasecuritylicense.org
SUMMARY:Security License D ONLINE 6 pm-11 pm week 1
DESCRIPTION:Security Officer License D class online 4 day course (10 hours a day or 5 dys 8 hours excluding any breaks). See Home page for schedule. Daytime course.\nEvening courses are offered several times a year. The evening course is a 2 weeks training Monday-Friday 6pm-11pm (40 hours)\nSecurity Officer License D Online course is regulated by the State of Florida Department of Agriculture and Consumer Services Division of Licensing. The security course consists of 40 hours of course work and 2 hours for the 170 questions exam. The security D license course includes an exam review and exam. \nNote: Students must be highly dedicated and responsible for the instruction of this class. This course requires the successful passing of a 170 questions exam with a 75% final score. If you must retake the exam there is a $50.00 retake fee. \nNOTE: The online version of the class D license course is strictly a proctored powerpoint based program. Our in-person class D program is a combination of power point and instructor/student interaction.  \nClass “D” Security Officer License Requirements\n  \n\n\nAny individual who performs the services of a security officer must have a Class “D” license. \nSecurity Officer Unarmed D License State of Florida Department of Agriculture Division of Licensing course consists of 40 hours of course work and 2 hours for your 170 questions exam. This course is proctored and the student must be present in class on the platform utilized with a live feed showing yourself during the entire class. \nSave your spot and click to REGISTER NOW!\nEligibility Requirements for Security Officer License D\nTo qualify for a license\, you must: \n\nBe at least 18 years old.\nBe a citizen or legal resident alien of the United States or have been granted authority to work in this country by the Department of Homeland Security\, U.S. Citizenship and Immigration Services.\n\nTraining/Experience\nYou must submit proof of successful completion of a minimum of 40 hours of professional training provided by a security officer school or training facility licensed by the Florida Department of Agriculture and Consumer Services. \nExceptions: \n\nIf you are a currently employed law enforcement officer\, correctional officer\, or correctional probation officer certified by the Florida Department of Law Enforcement’s Criminal Justice Standards and Training Commission\, a copy of your valid ID card issued by your employing law enforcement agency is sufficient to satisfy the training requirement.\nIf you have successfully completed a training program approved by the Florida Criminal Justice Standards and Training Commission for certification as a law enforcement officer\, correctional officer\, or correctional probation officer\, a copy of your certificate of completion is sufficient to satisfy the training requirement.\nIf you qualify for a Class “DI” security officer instructor license under Rule 5N-1.138(1)(e)-(g)\, Florida Administrative Code\, proof of such qualification is sufficient to satisfy the training requirement.\nIf you received relevant military training or education during service in the United States Armed Forces\, proof of such training or education is sufficient to satisfy the training requirement.\n\n\n\n\nThis State of Florida 40 hours course and 2 hours exam time meets the State Curriculum and Certification required to obtain the Security Officer Unarmed D License. This course is provided by a Security Officer Training Facility licensed by the Department of Agriculture and Consumer Services. The instructor holds a DI license to teach and certify you once you complete the required curriculum and upon successful completion of the course testing. \n\n\nOur training consists of the following: 40 hours of coursework\, exam review\, and 2 hours of exam. \n\n\n\nFollow us on Facebook
URL:https://floridasecuritylicense.org/course/security-license-d-online-16/2025-06-09/1/
LOCATION:Online\, United States
ATTACH;FMTTYPE=image/jpeg:https://floridasecuritylicense.org/wp-content/uploads/2023/05/Web-pic-2.jpg
ORGANIZER;CN="Instructor Carlos Fojo":MAILTO:instructor@securitylicense.com
END:VEVENT
BEGIN:VEVENT
DTSTART;TZID=America/New_York:20250421T080000
DTEND;TZID=America/New_York:20250424T190000
DTSTAMP:20260423T065959
CREATED:20250108T013019Z
LAST-MODIFIED:20250108T013229Z
UID:10000382-1745222400-1745521200@floridasecuritylicense.org
SUMMARY:Security License D ONLINE
DESCRIPTION:Security Officer License D class is an online 4 days course. See Home page for schedule. Daytime course.\nEvening courses are offered during January\, April\, July and October.\nSecurity Officer License D Online course is regulated by the State of Florida Department of Agriculture and Consumer Services Division of Licensing. The security course consists of 40 hours of course work and 2 hours for the 170 questions exam. The security D license course includes an exam review and exam. \nNote: Students must be highly dedicated and responsible for the instruction of this class. This course requires the successful passing of a 170 questions exam with a 75% final score. If you must retake the exam there is a $50.00 retake fee. \nClass “D” Security Officer License Requirements\n  \n\n\nAny individual who performs the services of a security officer must have a Class “D” license. \nSecurity Officer Unarmed D License State of Florida Department of Agriculture Division of Licensing course consists of 40 hours of course work and 2 hours for your 170 questions exam. This course is proctored and the student must be present in class on the platform utilized with a live feed showing yourself during the entire class. \nSave your spot and click to REGISTER NOW!\nEligibility Requirements for Security Officer License D\nTo qualify for a license\, you must: \n\nBe at least 18 years old.\nBe a citizen or legal resident alien of the United States or have been granted authority to work in this country by the Department of Homeland Security\, U.S. Citizenship and Immigration Services.\n\nTraining/Experience\nYou must submit proof of successful completion of a minimum of 40 hours of professional training provided by a security officer school or training facility licensed by the Florida Department of Agriculture and Consumer Services. \nExceptions: \n\nIf you are a currently employed law enforcement officer\, correctional officer\, or correctional probation officer certified by the Florida Department of Law Enforcement’s Criminal Justice Standards and Training Commission\, a copy of your valid ID card issued by your employing law enforcement agency is sufficient to satisfy the training requirement.\nIf you have successfully completed a training program approved by the Florida Criminal Justice Standards and Training Commission for certification as a law enforcement officer\, correctional officer\, or correctional probation officer\, a copy of your certificate of completion is sufficient to satisfy the training requirement.\nIf you qualify for a Class “DI” security officer instructor license under Rule 5N-1.138(1)(e)-(g)\, Florida Administrative Code\, proof of such qualification is sufficient to satisfy the training requirement.\nIf you received relevant military training or education during service in the United States Armed Forces\, proof of such training or education is sufficient to satisfy the training requirement.\n\n\n\n\nThis State of Florida 40 hours course and 2 hours exam time meets the State Curriculum and Certification required to obtain the Security Officer Unarmed D License. This course is provided by a Security Officer Training Facility licensed by the Department of Agriculture and Consumer Services. The instructor holds a DI license to teach and certify you once you complete the required curriculum and upon successful completion of the course testing. \n\n\nOur training consists of the following: 40 hours of coursework\, exam review\, and 2 hours of exam. \n\n\n\nFollow us on Facebook
URL:https://floridasecuritylicense.org/course/security-license-d-online-21/
LOCATION:Online\, United States
ATTACH;FMTTYPE=image/jpeg:https://floridasecuritylicense.org/wp-content/uploads/2023/05/Web-pic-2.jpg
ORGANIZER;CN="Instructor Carlos Fojo":MAILTO:instructor@securitylicense.com
END:VEVENT
BEGIN:VEVENT
DTSTART;TZID=America/New_York:20250407T080000
DTEND;TZID=America/New_York:20250410T190000
DTSTAMP:20260423T065959
CREATED:20250108T013012Z
LAST-MODIFIED:20250108T013234Z
UID:10000383-1744012800-1744311600@floridasecuritylicense.org
SUMMARY:Security License D ONLINE
DESCRIPTION:Security Officer License D class is an online 4 days course. See Home page for schedule. Daytime course.\nEvening courses are offered during January\, April\, July and October.\nSecurity Officer License D Online course is regulated by the State of Florida Department of Agriculture and Consumer Services Division of Licensing. The security course consists of 40 hours of course work and 2 hours for the 170 questions exam. The security D license course includes an exam review and exam. \nNote: Students must be highly dedicated and responsible for the instruction of this class. This course requires the successful passing of a 170 questions exam with a 75% final score. If you must retake the exam there is a $50.00 retake fee. \nClass “D” Security Officer License Requirements\n  \n\n\nAny individual who performs the services of a security officer must have a Class “D” license. \nSecurity Officer Unarmed D License State of Florida Department of Agriculture Division of Licensing course consists of 40 hours of course work and 2 hours for your 170 questions exam. This course is proctored and the student must be present in class on the platform utilized with a live feed showing yourself during the entire class. \nSave your spot and click to REGISTER NOW!\nEligibility Requirements for Security Officer License D\nTo qualify for a license\, you must: \n\nBe at least 18 years old.\nBe a citizen or legal resident alien of the United States or have been granted authority to work in this country by the Department of Homeland Security\, U.S. Citizenship and Immigration Services.\n\nTraining/Experience\nYou must submit proof of successful completion of a minimum of 40 hours of professional training provided by a security officer school or training facility licensed by the Florida Department of Agriculture and Consumer Services. \nExceptions: \n\nIf you are a currently employed law enforcement officer\, correctional officer\, or correctional probation officer certified by the Florida Department of Law Enforcement’s Criminal Justice Standards and Training Commission\, a copy of your valid ID card issued by your employing law enforcement agency is sufficient to satisfy the training requirement.\nIf you have successfully completed a training program approved by the Florida Criminal Justice Standards and Training Commission for certification as a law enforcement officer\, correctional officer\, or correctional probation officer\, a copy of your certificate of completion is sufficient to satisfy the training requirement.\nIf you qualify for a Class “DI” security officer instructor license under Rule 5N-1.138(1)(e)-(g)\, Florida Administrative Code\, proof of such qualification is sufficient to satisfy the training requirement.\nIf you received relevant military training or education during service in the United States Armed Forces\, proof of such training or education is sufficient to satisfy the training requirement.\n\n\n\n\nThis State of Florida 40 hours course and 2 hours exam time meets the State Curriculum and Certification required to obtain the Security Officer Unarmed D License. This course is provided by a Security Officer Training Facility licensed by the Department of Agriculture and Consumer Services. The instructor holds a DI license to teach and certify you once you complete the required curriculum and upon successful completion of the course testing. \n\n\nOur training consists of the following: 40 hours of coursework\, exam review\, and 2 hours of exam. \n\n\n\nFollow us on Facebook
URL:https://floridasecuritylicense.org/course/security-license-d-online-20/
LOCATION:Online\, United States
ATTACH;FMTTYPE=image/jpeg:https://floridasecuritylicense.org/wp-content/uploads/2023/05/Web-pic-2.jpg
ORGANIZER;CN="Instructor Carlos Fojo":MAILTO:instructor@securitylicense.com
END:VEVENT
END:VCALENDAR