BEGIN:VCALENDAR
VERSION:2.0
PRODID:-//Florida Security Licensing &amp; Firearms Defensive Training - ECPv6.3.2//NONSGML v1.0//EN
CALSCALE:GREGORIAN
METHOD:PUBLISH
X-ORIGINAL-URL:https://floridasecuritylicense.org
X-WR-CALDESC:Events for Florida Security Licensing &amp; Firearms Defensive Training
REFRESH-INTERVAL;VALUE=DURATION:PT1H
X-Robots-Tag:noindex
X-PUBLISHED-TTL:PT1H
BEGIN:VTIMEZONE
TZID:America/New_York
BEGIN:DAYLIGHT
TZOFFSETFROM:-0500
TZOFFSETTO:-0400
TZNAME:EDT
DTSTART:20260308T070000
END:DAYLIGHT
BEGIN:STANDARD
TZOFFSETFROM:-0400
TZOFFSETTO:-0500
TZNAME:EST
DTSTART:20261101T060000
END:STANDARD
END:VTIMEZONE
BEGIN:VEVENT
DTSTART;TZID=America/New_York:20260420T080000
DTEND;TZID=America/New_York:20260424T170000
DTSTAMP:20260423T015200
CREATED:20260303T152632Z
LAST-MODIFIED:20260303T152632Z
UID:10000572-1776672000-1777050000@floridasecuritylicense.org
SUMMARY:Security Class D ONLINE
DESCRIPTION:Security Class D Online Training – Start Today\, Don’t Delay – Only $100\nThe Florida Security Class D License Course is a required 40-hour training program\, mandated by the State of Florida Department of Agriculture and Consumer Services\, Division of Licensing. A 2-hour\, 170-question final exam must be completed with a minimum passing score of 75%. This course can be taken either online or in-person\, and candidates are strongly encouraged to act now—spots fill quickly and delays could mean missed opportunities. \n\nWhy the Security Class D License Matters\nA valid Class D Security Officer License is required for anyone seeking employment as an unarmed security officer in Florida. The training provided meets all state certification requirements and is delivered by a fully licensed Security Officer Training Facility. Instruction is led by a certified DI-licensed instructor authorized to issue your certification upon successful course completion. \nWhether you’re looking to start a new career in the security industry or fulfill licensing requirements quickly and affordably\, the Security Class D Online Training offers you this advantage to obatain your certification.  \n\nChoose Your Training Format – Online or In-Person\nThe Security Class D course is offered in two formats to meet your schedule and learning style: \n\n🕒 Online Class D Course – A 4-day or 5-day online course designed for self-motivated individuals. See the Home Page for the latest schedule.\n🌙 Evening Courses – Offered twice a year in January and June for those with daytime commitments.\n🏫 In-Person Classes – Available for students who prefer a distraction-free\, interactive classroom experience with exam reviews to help prepare you for the 170 question exam.\n\nDon’t wait—procrastination could delay your license and job opportunities. \n\nImportant Information About the Online Course\nThe Security Class D Online Training is ideal for students who cannot attend in-person sessions but can maintain strong self-discipline and time management. This course includes: \n\n40 hours of instructor-led online coursework\n2 hours for the proctored final exam\nLive video attendance is mandatory during all sessions\nA retake fee of $50 applies if the exam is not passed on the second attempt\n\n⚠️ While online flexibility is offered\, it must be noted that in-person classes provide advantages such as live instructor interaction\, peer engagement\, and in-depth class reviews that can boost your understanding and retention. \n\nEligibility Requirements for a Florida Class D License\nTo enroll\, you must: \n\nBe at least 18 years old\nBe a U.S. citizen\, legal resident\, or authorized to work in the U.S.\nSubmit proof of 40 hours of completed training from a licensed facility\n\nMilitary personnel\, law enforcement officers\, and certain certified individuals may qualify for training exemptions (documentation required). \n\nStart Training for Your Security Career Today\nThis is your moment to act. With demand for licensed security officers growing across Florida\, now is the time to secure your future. Train online or in-person\, but do not delay—classes fill fast and seats are limited. \n✅ Get certified. Get hired. Get started now. \n🔗 REGISTER NOW to reserve your seat in the next Security Class D course! \n\n\n\nFollow us on Facebook
URL:https://floridasecuritylicense.org/course/security-class-d-online-22/
LOCATION:Online\, United States
CATEGORIES:Online Class D
ATTACH;FMTTYPE=image/png:https://floridasecuritylicense.org/wp-content/uploads/2020/03/Online-class-D-image.png
ORGANIZER;CN="Instructor Carlos Fojo":MAILTO:instructor@securitylicense.com
END:VEVENT
BEGIN:VEVENT
DTSTART;TZID=America/New_York:20260504T080000
DTEND;TZID=America/New_York:20260508T170000
DTSTAMP:20260423T015200
CREATED:20260303T152830Z
LAST-MODIFIED:20260303T152830Z
UID:10000573-1777881600-1778259600@floridasecuritylicense.org
SUMMARY:Security Class D ONLINE
DESCRIPTION:Security Class D Online Training – Start Today\, Don’t Delay – Only $100\nThe Florida Security Class D License Course is a required 40-hour training program\, mandated by the State of Florida Department of Agriculture and Consumer Services\, Division of Licensing. A 2-hour\, 170-question final exam must be completed with a minimum passing score of 75%. This course can be taken either online or in-person\, and candidates are strongly encouraged to act now—spots fill quickly and delays could mean missed opportunities. \n\nWhy the Security Class D License Matters\nA valid Class D Security Officer License is required for anyone seeking employment as an unarmed security officer in Florida. The training provided meets all state certification requirements and is delivered by a fully licensed Security Officer Training Facility. Instruction is led by a certified DI-licensed instructor authorized to issue your certification upon successful course completion. \nWhether you’re looking to start a new career in the security industry or fulfill licensing requirements quickly and affordably\, the Security Class D Online Training offers you this advantage to obatain your certification.  \n\nChoose Your Training Format – Online or In-Person\nThe Security Class D course is offered in two formats to meet your schedule and learning style: \n\n🕒 Online Class D Course – A 4-day or 5-day online course designed for self-motivated individuals. See the Home Page for the latest schedule.\n🌙 Evening Courses – Offered twice a year in January and June for those with daytime commitments.\n🏫 In-Person Classes – Available for students who prefer a distraction-free\, interactive classroom experience with exam reviews to help prepare you for the 170 question exam.\n\nDon’t wait—procrastination could delay your license and job opportunities. \n\nImportant Information About the Online Course\nThe Security Class D Online Training is ideal for students who cannot attend in-person sessions but can maintain strong self-discipline and time management. This course includes: \n\n40 hours of instructor-led online coursework\n2 hours for the proctored final exam\nLive video attendance is mandatory during all sessions\nA retake fee of $50 applies if the exam is not passed on the second attempt\n\n⚠️ While online flexibility is offered\, it must be noted that in-person classes provide advantages such as live instructor interaction\, peer engagement\, and in-depth class reviews that can boost your understanding and retention. \n\nEligibility Requirements for a Florida Class D License\nTo enroll\, you must: \n\nBe at least 18 years old\nBe a U.S. citizen\, legal resident\, or authorized to work in the U.S.\nSubmit proof of 40 hours of completed training from a licensed facility\n\nMilitary personnel\, law enforcement officers\, and certain certified individuals may qualify for training exemptions (documentation required). \n\nStart Training for Your Security Career Today\nThis is your moment to act. With demand for licensed security officers growing across Florida\, now is the time to secure your future. Train online or in-person\, but do not delay—classes fill fast and seats are limited. \n✅ Get certified. Get hired. Get started now. \n🔗 REGISTER NOW to reserve your seat in the next Security Class D course! \n\n\n\nFollow us on Facebook
URL:https://floridasecuritylicense.org/course/security-class-d-online-23/
LOCATION:Online\, United States
CATEGORIES:Online Class D
ATTACH;FMTTYPE=image/png:https://floridasecuritylicense.org/wp-content/uploads/2020/03/Online-class-D-image.png
ORGANIZER;CN="Instructor Carlos Fojo":MAILTO:instructor@securitylicense.com
END:VEVENT
BEGIN:VEVENT
DTSTART;TZID=America/New_York:20260511T080000
DTEND;TZID=America/New_York:20260515T170000
DTSTAMP:20260423T015200
CREATED:20260303T152919Z
LAST-MODIFIED:20260303T152919Z
UID:10000574-1778486400-1778864400@floridasecuritylicense.org
SUMMARY:Security Class D ONLINE
DESCRIPTION:Security Class D Online Training – Start Today\, Don’t Delay – Only $100\nThe Florida Security Class D License Course is a required 40-hour training program\, mandated by the State of Florida Department of Agriculture and Consumer Services\, Division of Licensing. A 2-hour\, 170-question final exam must be completed with a minimum passing score of 75%. This course can be taken either online or in-person\, and candidates are strongly encouraged to act now—spots fill quickly and delays could mean missed opportunities. \n\nWhy the Security Class D License Matters\nA valid Class D Security Officer License is required for anyone seeking employment as an unarmed security officer in Florida. The training provided meets all state certification requirements and is delivered by a fully licensed Security Officer Training Facility. Instruction is led by a certified DI-licensed instructor authorized to issue your certification upon successful course completion. \nWhether you’re looking to start a new career in the security industry or fulfill licensing requirements quickly and affordably\, the Security Class D Online Training offers you this advantage to obatain your certification.  \n\nChoose Your Training Format – Online or In-Person\nThe Security Class D course is offered in two formats to meet your schedule and learning style: \n\n🕒 Online Class D Course – A 4-day or 5-day online course designed for self-motivated individuals. See the Home Page for the latest schedule.\n🌙 Evening Courses – Offered twice a year in January and June for those with daytime commitments.\n🏫 In-Person Classes – Available for students who prefer a distraction-free\, interactive classroom experience with exam reviews to help prepare you for the 170 question exam.\n\nDon’t wait—procrastination could delay your license and job opportunities. \n\nImportant Information About the Online Course\nThe Security Class D Online Training is ideal for students who cannot attend in-person sessions but can maintain strong self-discipline and time management. This course includes: \n\n40 hours of instructor-led online coursework\n2 hours for the proctored final exam\nLive video attendance is mandatory during all sessions\nA retake fee of $50 applies if the exam is not passed on the second attempt\n\n⚠️ While online flexibility is offered\, it must be noted that in-person classes provide advantages such as live instructor interaction\, peer engagement\, and in-depth class reviews that can boost your understanding and retention. \n\nEligibility Requirements for a Florida Class D License\nTo enroll\, you must: \n\nBe at least 18 years old\nBe a U.S. citizen\, legal resident\, or authorized to work in the U.S.\nSubmit proof of 40 hours of completed training from a licensed facility\n\nMilitary personnel\, law enforcement officers\, and certain certified individuals may qualify for training exemptions (documentation required). \n\nStart Training for Your Security Career Today\nThis is your moment to act. With demand for licensed security officers growing across Florida\, now is the time to secure your future. Train online or in-person\, but do not delay—classes fill fast and seats are limited. \n✅ Get certified. Get hired. Get started now. \n🔗 REGISTER NOW to reserve your seat in the next Security Class D course! \n\n\n\nFollow us on Facebook
URL:https://floridasecuritylicense.org/course/security-class-d-online-24/
LOCATION:Online\, United States
CATEGORIES:Online Class D
ATTACH;FMTTYPE=image/png:https://floridasecuritylicense.org/wp-content/uploads/2020/03/Online-class-D-image.png
ORGANIZER;CN="Instructor Carlos Fojo":MAILTO:instructor@securitylicense.com
END:VEVENT
BEGIN:VEVENT
DTSTART;TZID=America/New_York:20260518T080000
DTEND;TZID=America/New_York:20260522T170000
DTSTAMP:20260423T015200
CREATED:20260303T153122Z
LAST-MODIFIED:20260303T153122Z
UID:10000575-1779091200-1779469200@floridasecuritylicense.org
SUMMARY:Security Class D ONLINE
DESCRIPTION:Security Class D Online Training – Start Today\, Don’t Delay – Only $100\nThe Florida Security Class D License Course is a required 40-hour training program\, mandated by the State of Florida Department of Agriculture and Consumer Services\, Division of Licensing. A 2-hour\, 170-question final exam must be completed with a minimum passing score of 75%. This course can be taken either online or in-person\, and candidates are strongly encouraged to act now—spots fill quickly and delays could mean missed opportunities. \n\nWhy the Security Class D License Matters\nA valid Class D Security Officer License is required for anyone seeking employment as an unarmed security officer in Florida. The training provided meets all state certification requirements and is delivered by a fully licensed Security Officer Training Facility. Instruction is led by a certified DI-licensed instructor authorized to issue your certification upon successful course completion. \nWhether you’re looking to start a new career in the security industry or fulfill licensing requirements quickly and affordably\, the Security Class D Online Training offers you this advantage to obatain your certification.  \n\nChoose Your Training Format – Online or In-Person\nThe Security Class D course is offered in two formats to meet your schedule and learning style: \n\n🕒 Online Class D Course – A 4-day or 5-day online course designed for self-motivated individuals. See the Home Page for the latest schedule.\n🌙 Evening Courses – Offered twice a year in January and June for those with daytime commitments.\n🏫 In-Person Classes – Available for students who prefer a distraction-free\, interactive classroom experience with exam reviews to help prepare you for the 170 question exam.\n\nDon’t wait—procrastination could delay your license and job opportunities. \n\nImportant Information About the Online Course\nThe Security Class D Online Training is ideal for students who cannot attend in-person sessions but can maintain strong self-discipline and time management. This course includes: \n\n40 hours of instructor-led online coursework\n2 hours for the proctored final exam\nLive video attendance is mandatory during all sessions\nA retake fee of $50 applies if the exam is not passed on the second attempt\n\n⚠️ While online flexibility is offered\, it must be noted that in-person classes provide advantages such as live instructor interaction\, peer engagement\, and in-depth class reviews that can boost your understanding and retention. \n\nEligibility Requirements for a Florida Class D License\nTo enroll\, you must: \n\nBe at least 18 years old\nBe a U.S. citizen\, legal resident\, or authorized to work in the U.S.\nSubmit proof of 40 hours of completed training from a licensed facility\n\nMilitary personnel\, law enforcement officers\, and certain certified individuals may qualify for training exemptions (documentation required). \n\nStart Training for Your Security Career Today\nThis is your moment to act. With demand for licensed security officers growing across Florida\, now is the time to secure your future. Train online or in-person\, but do not delay—classes fill fast and seats are limited. \n✅ Get certified. Get hired. Get started now. \n🔗 REGISTER NOW to reserve your seat in the next Security Class D course! \n\n\n\nFollow us on Facebook
URL:https://floridasecuritylicense.org/course/security-class-d-online-25/
LOCATION:Online\, United States
CATEGORIES:Online Class D
ATTACH;FMTTYPE=image/png:https://floridasecuritylicense.org/wp-content/uploads/2020/03/Online-class-D-image.png
ORGANIZER;CN="Instructor Carlos Fojo":MAILTO:instructor@securitylicense.com
END:VEVENT
END:VCALENDAR