BEGIN:VCALENDAR
VERSION:2.0
PRODID:-//Florida Security Licensing &amp; Firearms Defensive Training - ECPv6.3.2//NONSGML v1.0//EN
CALSCALE:GREGORIAN
METHOD:PUBLISH
X-ORIGINAL-URL:https://floridasecuritylicense.org
X-WR-CALDESC:Events for Florida Security Licensing &amp; Firearms Defensive Training
REFRESH-INTERVAL;VALUE=DURATION:PT1H
X-Robots-Tag:noindex
X-PUBLISHED-TTL:PT1H
BEGIN:VTIMEZONE
TZID:America/New_York
BEGIN:DAYLIGHT
TZOFFSETFROM:-0500
TZOFFSETTO:-0400
TZNAME:EDT
DTSTART:20260308T070000
END:DAYLIGHT
BEGIN:STANDARD
TZOFFSETFROM:-0400
TZOFFSETTO:-0500
TZNAME:EST
DTSTART:20261101T060000
END:STANDARD
END:VTIMEZONE
BEGIN:VEVENT
DTSTART;TZID=America/New_York:20260420T080000
DTEND;TZID=America/New_York:20260423T180000
DTSTAMP:20260423T034028
CREATED:20260303T151520Z
LAST-MODIFIED:20260303T151520Z
UID:10000569-1776672000-1776967200@floridasecuritylicense.org
SUMMARY:Security Officer License D Fort Lauderdale
DESCRIPTION:Class “D” Security Officer License Requirements\n\n\nAny individual who performs the services of a security officer must have a Class “D” license. \nEligibility Requirements for your security license:\nTo qualify for a license\, you must: \n\nBe at least 18 years old.\nBe a citizen or legal resident alien of the United States or have been granted authority to work in this country by the Department of Homeland Security\, U.S. Citizenship and Immigration Services.\n\nTraining/Experience\nYou must submit proof of successful completion of a minimum of 40 hours of professional training provided by a security officer school or training facility licensed by the Florida Department of Agriculture and Consumer Services. \nExceptions: \n\nIf you are a currently employed law enforcement officer\, correctional officer\, or correctional probation officer certified by the Florida Department of Law Enforcement’s Criminal Justice Standards and Training Commission\, a copy of your valid ID card issued by your employing law enforcement agency is sufficient to satisfy the training requirement.\nIf you have successfully completed a training program approved by the Florida Criminal Justice Standards and Training Commission for certification as a law enforcement officer\, correctional officer\, or correctional probation officer\, a copy of your certificate of completion is sufficient to satisfy the training requirement.\nIf you qualify for a Class “DI” security officer instructor license under Rule 5N-1.138(1)(e)-(g)\, Florida Administrative Code\, proof of such qualification is sufficient to satisfy the training requirement.\nIf you received relevant military training or education during service in the United States Armed Forces\, proof of such training or education is sufficient to satisfy the training requirement.\n\n\n\n\nThis State of Florida 42 hours course meets the State Curriculum and Certification required to obtain the Security Officer Unarmed D License. This course is provided by a Security Officer Training Facility licensed by the Department of Agriculture and Consumer Services. The instructor holds a DI license to teach and certify you once you complete the required curriculum and upon successful completion of the course testing. \n\n\nOur package consists of the following: 40 hours of coursework\, exam review\, and 2 hours of exam. To learn more or register click here for your license D.\n\n\n\nFollow us on Facebook
URL:https://floridasecuritylicense.org/course/security-officer-license-d-fort-lauderdale-27/
LOCATION:Fort Lauderdale\, 3421 Davie Blvd\, Fort Lauderdale\, FL 33312\, Fort Lauderdale\, FL\, FL 33312\, United States
CATEGORIES:Fort Lauderdale
ATTACH;FMTTYPE=image/png:https://floridasecuritylicense.org/wp-content/uploads/2023/05/Security-Officer-D-license.png
ORGANIZER;CN="Instructor Carlos Fojo":MAILTO:instructor@securitylicense.com
END:VEVENT
BEGIN:VEVENT
DTSTART;TZID=America/New_York:20260424T080000
DTEND;TZID=America/New_York:20260428T180000
DTSTAMP:20260423T034028
CREATED:20260420T204634Z
LAST-MODIFIED:20260420T213507Z
UID:10000600-1777017600-1777399200@floridasecuritylicense.org
SUMMARY:Security Officer License G Fort Lauderdale (Friday & Sunday Classroom / Tuesday - Hialeah Range)
DESCRIPTION:In order to obtain your Security armed guard license you must read the following:\nTo become a licensed Class G security officer in Florida\, you need to fulfill several requirements and complete specific steps. Here’s a detailed guide to help you through the process: \n1. Meet Basic Eligibility Requirements\n\nAge: You must be at least 21 years old.\nCitizenship: You must be a U.S. citizen or legal resident.\nBackground Check: You must have a clean criminal record. A background check will be conducted by the Florida Department of Agriculture and Consumer Services (FDACS). Certain criminal convictions may disqualify you.\n\n2. Complete a State-Approved G License Training Course\n\nTraining: You must complete a Class G Statewide Firearm License training course. This training must be provided by a licensed Class K Firearms Instructor.\n\nDuration: The training course typically includes at least 28 hours of instruction.\nContent: The course covers topics such as firearms safety\, the legal aspects of using force\, marksmanship\, and the proper handling of firearms.\nCertification: After completing the training\, you will receive a completion certificate that you will need for the licensing application.\n\n\n\n3. Pass the Firearms Proficiency Test\n\nYou must pass a written and practical firearms proficiency test as part of the training course. The test will evaluate your knowledge of firearms laws and your ability to handle and use a firearm safely and effectively.\n\n4. Submit an Application to FDACS\n\nApplication Form: You need to fill out the Class G Statewide Firearm License application. This can be done online through the FDACS website.\nFee: Pay the non-refundable application fee. As of the latest information\, the fee is $112 for a Class G license. Check the FDACS website for current fees.\n\n5. Complete a Background Check\n\nAs part of the application process\, you will need to undergo a criminal background check. You will be fingerprinted\, and the results will be reviewed by FDACS.\nYou can schedule your fingerprinting appointment through an approved fingerprinting service provider or at the Florida Department of Agriculture and Consumer Services. The fingerprinting fee is separate from the license application fee.\n\n6. Submit the Required Documents\n\nCompletion Certificate: Provide the certificate of completion from your Class G training course.\nProof of Citizenship or Legal Residency: Provide appropriate documentation to prove you are a U.S. citizen or legal resident.\n\n7. Pass a Psychological Examination (if applicable)\n\nWhile not always a requirement\, some employers might require you to pass a psychological evaluation to ensure you are fit for carrying a firearm. Check with your prospective employer and/or your instructor for this requirement.\n\n8. Receive Your Security Officer G license \n\nAfter you have completed all the above steps and FDACS has reviewed and approved your application\, you will receive your Class G Statewide Firearm License.\n\n9. Maintain Your G License\n\nRenewal: Every two years\, you must renew your G license. To renew\, you will need to complete a renewal application and may need to provide proof of ongoing qualifications or continuing education\, depending on FDACS requirements at the time of renewal.\n\nSummary Table of Requirements\n\n\n\nRequirement\nDetails\n\n\n\n\nAge\nAt least 21 years old\n\n\nCitizenship\nU.S. citizen or legal resident\n\n\nCriminal Background\nClean criminal record\n\n\nTraining Course\nClass G Statewide Firearm License course\, 28 hours\, from a Class K Instructor\n\n\nFirearms Proficiency Test\nPass written and practical tests\n\n\nApplication\nSubmit to FDACS with a $112 fee\n\n\nBackground Check\nCriminal background check with fingerprinting\n\n\nDocuments Required\nCompletion certificate\, proof of citizenship or residency\n\n\nPsychological Examination\nNot always required but may be needed for employment\n\n\nLicense Renewal\nEvery 2 years\, with yearly mandatory 4 hours re-qualification training\n\n\n\nFor the most accurate and up-to-date information\, always check the official Florida Department of Agriculture and Consumer Services (FDACS) website or contact them directly. \nIf you have further questions or need specific details about any part of the process\, feel free to ask! \n\n\n\n\n\n\n\n\n\n\n\n\n\n\nIn the event that you do not have a license such as a class D\, class C\, class CC or class M\, you can obtain the G license by enrolling in the Bundle course (D\, G and Concealed-Know the Law) or adding a class D course in person or online course. The D license qualifies you to obtain the companion security officer G  license. \nFollow us on Facebook
URL:https://floridasecuritylicense.org/course/security-officer-license-g-fort-lauderdale-friday-sunday-classroom-and-tuesday-range/
LOCATION:Fort Lauderdale\, 3421 Davie Blvd\, Fort Lauderdale\, FL 33312\, Fort Lauderdale\, FL\, FL 33312\, United States
CATEGORIES:Fort Lauderdale,Hialeah
ATTACH;FMTTYPE=image/png:https://floridasecuritylicense.org/wp-content/uploads/2023/05/Security-Officer-G-license-class.png
ORGANIZER;CN="Instructor Carlos Fojo":MAILTO:instructor@securitylicense.com
END:VEVENT
BEGIN:VEVENT
DTSTART;TZID=America/New_York:20260518T080000
DTEND;TZID=America/New_York:20260521T180000
DTSTAMP:20260423T034028
CREATED:20260303T181610Z
LAST-MODIFIED:20260303T181610Z
UID:10000587-1779091200-1779386400@floridasecuritylicense.org
SUMMARY:Security Officer License D Fort Lauderdale
DESCRIPTION:Class “D” Security Officer License Requirements\n\n\nAny individual who performs the services of a security officer must have a Class “D” license. \nEligibility Requirements for your security license:\nTo qualify for a license\, you must: \n\nBe at least 18 years old.\nBe a citizen or legal resident alien of the United States or have been granted authority to work in this country by the Department of Homeland Security\, U.S. Citizenship and Immigration Services.\n\nTraining/Experience\nYou must submit proof of successful completion of a minimum of 40 hours of professional training provided by a security officer school or training facility licensed by the Florida Department of Agriculture and Consumer Services. \nExceptions: \n\nIf you are a currently employed law enforcement officer\, correctional officer\, or correctional probation officer certified by the Florida Department of Law Enforcement’s Criminal Justice Standards and Training Commission\, a copy of your valid ID card issued by your employing law enforcement agency is sufficient to satisfy the training requirement.\nIf you have successfully completed a training program approved by the Florida Criminal Justice Standards and Training Commission for certification as a law enforcement officer\, correctional officer\, or correctional probation officer\, a copy of your certificate of completion is sufficient to satisfy the training requirement.\nIf you qualify for a Class “DI” security officer instructor license under Rule 5N-1.138(1)(e)-(g)\, Florida Administrative Code\, proof of such qualification is sufficient to satisfy the training requirement.\nIf you received relevant military training or education during service in the United States Armed Forces\, proof of such training or education is sufficient to satisfy the training requirement.\n\n\n\n\nThis State of Florida 42 hours course meets the State Curriculum and Certification required to obtain the Security Officer Unarmed D License. This course is provided by a Security Officer Training Facility licensed by the Department of Agriculture and Consumer Services. The instructor holds a DI license to teach and certify you once you complete the required curriculum and upon successful completion of the course testing. \n\n\nOur package consists of the following: 40 hours of coursework\, exam review\, and 2 hours of exam. To learn more or register click here for your license D.\n\n\n\nFollow us on Facebook
URL:https://floridasecuritylicense.org/course/security-officer-license-d-fort-lauderdale-28/
LOCATION:Fort Lauderdale\, 3421 Davie Blvd\, Fort Lauderdale\, FL 33312\, Fort Lauderdale\, FL\, FL 33312\, United States
CATEGORIES:Fort Lauderdale
ATTACH;FMTTYPE=image/png:https://floridasecuritylicense.org/wp-content/uploads/2023/05/Security-Officer-D-license.png
ORGANIZER;CN="Instructor Carlos Fojo":MAILTO:instructor@securitylicense.com
END:VEVENT
BEGIN:VEVENT
DTSTART;TZID=America/New_York:20260522T080000
DTEND;TZID=America/New_York:20260524T180000
DTSTAMP:20260423T034028
CREATED:20260303T182511Z
LAST-MODIFIED:20260308T115238Z
UID:10000590-1779436800-1779645600@floridasecuritylicense.org
SUMMARY:Security Officer license G Fort Lauderdale
DESCRIPTION:In order to obtain your Security armed guard license you must read the following:\nTo become a licensed Class G security officer in Florida\, you need to fulfill several requirements and complete specific steps. Here’s a detailed guide to help you through the process: \n1. Meet Basic Eligibility Requirements\n\nAge: You must be at least 21 years old.\nCitizenship: You must be a U.S. citizen or legal resident.\nBackground Check: You must have a clean criminal record. A background check will be conducted by the Florida Department of Agriculture and Consumer Services (FDACS). Certain criminal convictions may disqualify you.\n\n2. Complete a State-Approved G License Training Course\n\nTraining: You must complete a Class G Statewide Firearm License training course. This training must be provided by a licensed Class K Firearms Instructor.\n\nDuration: The training course typically includes at least 28 hours of instruction.\nContent: The course covers topics such as firearms safety\, the legal aspects of using force\, marksmanship\, and the proper handling of firearms.\nCertification: After completing the training\, you will receive a completion certificate that you will need for the licensing application.\n\n\n\n3. Pass the Firearms Proficiency Test\n\nYou must pass a written and practical firearms proficiency test as part of the training course. The test will evaluate your knowledge of firearms laws and your ability to handle and use a firearm safely and effectively.\n\n4. Submit an Application to FDACS\n\nApplication Form: You need to fill out the Class G Statewide Firearm License application. This can be done online through the FDACS website.\nFee: Pay the non-refundable application fee. As of the latest information\, the fee is $112 for a Class G license. Check the FDACS website for current fees.\n\n5. Complete a Background Check\n\nAs part of the application process\, you will need to undergo a criminal background check. You will be fingerprinted\, and the results will be reviewed by FDACS.\nYou can schedule your fingerprinting appointment through an approved fingerprinting service provider or at the Florida Department of Agriculture and Consumer Services. The fingerprinting fee is separate from the license application fee.\n\n6. Submit the Required Documents\n\nCompletion Certificate: Provide the certificate of completion from your Class G training course.\nProof of Citizenship or Legal Residency: Provide appropriate documentation to prove you are a U.S. citizen or legal resident.\n\n7. Pass a Psychological Examination (if applicable)\n\nWhile not always a requirement\, some employers might require you to pass a psychological evaluation to ensure you are fit for carrying a firearm. Check with your prospective employer and/or your instructor for this requirement.\n\n8. Receive Your Security Officer G license \n\nAfter you have completed all the above steps and FDACS has reviewed and approved your application\, you will receive your Class G Statewide Firearm License.\n\n9. Maintain Your G License\n\nRenewal: Every two years\, you must renew your G license. To renew\, you will need to complete a renewal application and may need to provide proof of ongoing qualifications or continuing education\, depending on FDACS requirements at the time of renewal.\n\nSummary Table of Requirements\n\n\n\nRequirement\nDetails\n\n\n\n\nAge\nAt least 21 years old\n\n\nCitizenship\nU.S. citizen or legal resident\n\n\nCriminal Background\nClean criminal record\n\n\nTraining Course\nClass G Statewide Firearm License course\, 28 hours\, from a Class K Instructor\n\n\nFirearms Proficiency Test\nPass written and practical tests\n\n\nApplication\nSubmit to FDACS with a $112 fee\n\n\nBackground Check\nCriminal background check with fingerprinting\n\n\nDocuments Required\nCompletion certificate\, proof of citizenship or residency\n\n\nPsychological Examination\nNot always required but may be needed for employment\n\n\nLicense Renewal\nEvery 2 years\, with yearly mandatory 4 hours re-qualification training\n\n\n\nFor the most accurate and up-to-date information\, always check the official Florida Department of Agriculture and Consumer Services (FDACS) website or contact them directly. \nIf you have further questions or need specific details about any part of the process\, feel free to ask! \n\n\n\n\n\n\n\n\n\n\n\n\n\n\nIn the event that you do not have a license such as a class D\, class C\, class CC or class M\, you can obtain the G license by enrolling in the Bundle course (D\, G and Concealed-Know the Law) or adding a class D course in person or online course. The D license qualifies you to obtain the companion security officer G  license. \nFollow us on Facebook
URL:https://floridasecuritylicense.org/course/security-officer-license-g-fort-lauderdale-40/
LOCATION:Fort Lauderdale\, 3421 Davie Blvd\, Fort Lauderdale\, FL 33312\, Fort Lauderdale\, FL\, FL 33312\, United States
CATEGORIES:Fort Lauderdale
ATTACH;FMTTYPE=image/png:https://floridasecuritylicense.org/wp-content/uploads/2023/05/Security-Officer-G-license-class.png
ORGANIZER;CN="Instructor Carlos Fojo":MAILTO:instructor@securitylicense.com
END:VEVENT
END:VCALENDAR