BEGIN:VCALENDAR
VERSION:2.0
PRODID:-//Florida Security Licensing &amp; Firearms Defensive Training - ECPv6.3.2//NONSGML v1.0//EN
CALSCALE:GREGORIAN
METHOD:PUBLISH
X-WR-CALNAME:Florida Security Licensing &amp; Firearms Defensive Training
X-ORIGINAL-URL:https://floridasecuritylicense.org
X-WR-CALDESC:Events for Florida Security Licensing &amp; Firearms Defensive Training
REFRESH-INTERVAL;VALUE=DURATION:PT1H
X-Robots-Tag:noindex
X-PUBLISHED-TTL:PT1H
BEGIN:VTIMEZONE
TZID:America/New_York
BEGIN:DAYLIGHT
TZOFFSETFROM:-0500
TZOFFSETTO:-0400
TZNAME:EDT
DTSTART:20260308T070000
END:DAYLIGHT
BEGIN:STANDARD
TZOFFSETFROM:-0400
TZOFFSETTO:-0500
TZNAME:EST
DTSTART:20261101T060000
END:STANDARD
END:VTIMEZONE
BEGIN:VEVENT
DTSTART;TZID=America/New_York:20260428T080000
DTEND;TZID=America/New_York:20260428T170000
DTSTAMP:20260423T051430
CREATED:20260420T211935Z
LAST-MODIFIED:20260420T211935Z
UID:10000601-1777363200-1777395600@floridasecuritylicense.org
SUMMARY:8-Hour Firearms Qualification Course for Florida Class “G” License
DESCRIPTION:8-Hour Firearms Qualification Course for Florida Class “G” License\n\nMeet Your Final Training Requirement for the Class G License\nIf you’ve completed the 20-hour classroom portion of the Class “G” license requirement\, this course provides the final 8 hours of firearms and range training mandated by the State of Florida. It’s a crucial step toward becoming a licensed armed security officer. \nUnder Chapter 493\, F.S.\, this qualification segment includes in-depth instruction and live-fire exercises that prepare you for real-world duties in the security industry. \n\nWhat You’ll Learn in This Course\nThis practical firearms course includes: \n\n\nProper stance\, grip\, and sight alignment \n\n\nFirearms safety protocols and range commands \n\n\nLive-fire practice: 48 rounds \n\n\nTwo cycles of live-fire qualification: 96 rounds \n\n\nSupervision by licensed Class “K” instructors \n\n\nCompletion certificate for your Class “G” license application \n\n\nThe course strictly adheres to the maximum 8-hour range training regulation and is conducted at an approved range facility. \n\nWho Should Enroll?\nThis course is ideal for: \n\n\nSecurity officers seeking to complete Class “G” license requirements \n\n\nIndividuals who have completed the 20-hour classroom training \n\n\nArmed guards\, executive protection professionals\, or armored car personnel \n\n\n\nCertification and Compliance\nUpon successful completion\, students receive an official certificate of completion\, which can be submitted to FDACS as proof of firearms proficiency. This training ensures compliance with Florida’s legal and professional standards for armed security personnel. \n\nEnroll Today and Advance Your Security Career\nDon’t wait—complete your required firearms qualification and take the final step toward earning your Class “G” license. Enrollment is open now with multiple range sessions available each week.
URL:https://floridasecuritylicense.org/course/8-hour-firearms-qualification-course-for-florida-class-g-license-10/
LOCATION:Eustis\, TBD\, Eustis\, FL\, 32736\, United States
CATEGORIES:Hialeah
ATTACH;FMTTYPE=image/jpeg:https://floridasecuritylicense.org/wp-content/uploads/2023/05/IMG-5594-One-hand-shooting-good-pic.jpg
ORGANIZER;CN="Instructor Carlos Fojo":MAILTO:instructor@securitylicense.com
END:VEVENT
END:VCALENDAR