BEGIN:VCALENDAR
VERSION:2.0
PRODID:-//Florida Security Licensing &amp; Firearms Defensive Training - ECPv6.3.2//NONSGML v1.0//EN
CALSCALE:GREGORIAN
METHOD:PUBLISH
X-WR-CALNAME:Florida Security Licensing &amp; Firearms Defensive Training
X-ORIGINAL-URL:https://floridasecuritylicense.org
X-WR-CALDESC:Events for Florida Security Licensing &amp; Firearms Defensive Training
REFRESH-INTERVAL;VALUE=DURATION:PT1H
X-Robots-Tag:noindex
X-PUBLISHED-TTL:PT1H
BEGIN:VTIMEZONE
TZID:America/New_York
BEGIN:DAYLIGHT
TZOFFSETFROM:-0500
TZOFFSETTO:-0400
TZNAME:EDT
DTSTART:20260308T070000
END:DAYLIGHT
BEGIN:STANDARD
TZOFFSETFROM:-0400
TZOFFSETTO:-0500
TZNAME:EST
DTSTART:20261101T060000
END:STANDARD
END:VTIMEZONE
BEGIN:VEVENT
DTSTART;TZID=America/New_York:20260523T150000
DTEND;TZID=America/New_York:20260523T170000
DTSTAMP:20260423T075707
CREATED:20260303T183312Z
LAST-MODIFIED:20260303T183354Z
UID:10000594-1779548400-1779555600@floridasecuritylicense.org
SUMMARY:Concealed Firearm License l Open Carry- Know the law! Or add Firearms Training
DESCRIPTION:Concealed Weapon Firearm License theory course ($100 – Register here) is designed for persons that want to know where it is legal to carry.\nConcealed weapon firearm license a.k.a. CCW class covers the theory of basic fundamentals of safely handling firearms. Offers a review of laws that pertain to the legal carrying of your gun and other weapons within the State of Florida. In the State of Florida\, you are not required to complete firearms training. However\, you are required to discharge one round in the presence of the certifying instructor. \nIndividuals such as private Security Officers\, Law Enforcement Officers and Civilians that want to enhance their knowledge in laws and application of safety in carrying their weapon usually benefit from this basic theory course. \n I want training in firearms handling/shooting ($350 – Register here)\n\nFirearm Safety & Personal Defensive Training – Master Your Skills!\n\n\nThe training Includes classroom for firearm safety & familiarization and  shooting at local range. This course is a minimum of 2 hours training. Includes 1 cycle of 48 rounds at the range\, range fees\, ear/eye protection and gun rental if needed. \n\n\n\n\nReady to confidently handle your personal defense firearm? Join us for a training session at the firing range where you’ll learn everything you need to know about safely using and handling your firearm—from basic to advanced techniques. This course is designed to give you the confidence and legal knowledge to carry your firearm responsibly and safely in Florida. \n\n\nThe training Includes classroom for firearm safety & familiarization and  shooting at local range. This course is a minimum of 2 hours training. Includes 1 cycle of 48 rounds at the range\, range fees\, ear/eye protection and gun rental if needed. \n  \nLawful Self-Defense\n\n\nUse of Deadly Force for Lawful Self-Defense\nSection 776.012\, Florida Statutes (F.S.)\, is important Florida law governing the justifiable use of force\, including deadly force by private citizens. The link to this particularly important law is provided to our concealed weapon firearm license holders and applicants to ensure access to the most up-to-date statutory language outlining acceptable use of force by Floridians. \nFirearm Safety Tips for CCW carriers\n\n\nThese simple steps may prevent needless and tragic injury or death so often associated with the careless storage and handling of firearms. Responsible and informed firearm owners use these storage and handling methods\, without exception\, to ensure the safety of those in the home. \n\nNever store or handle a loaded firearm in the home. Tragedy can occur in only one instance of negligence.\nKeep a trigger-locking device on the firearm\, in addition to keeping it locked away\, as an additional safety factor. There is no such thing as overemphasizing firearm safety.\nLock firearms and ammunition in separate locations. This is a good backup precaution.\nNever point a firearm at anyone\, loaded or unloaded. Too often the unintentional discharge of guns\, even those believed to be unloaded\, has killed or wounded innocent persons.\nEducate everyone in the home about firearms safety — especially children. Firearms are not toys. Emphasize the danger in\, and outside\, the home. Give reinforcement training frequently.\n\nFirearm owners must always remember that a firearm may protect life\, but it can also be a potential deadly threat to innocent persons. The proper storing and handling of a firearm must always be foremost in the mind of the owner who is responsible for the safety of those in the home. \nSection 790.174\, Florida Statutes\, requires a loaded firearm in the home to be stored in a locked box container or secured with a trigger lock if the owner reasonably knows that a child under the age of 16 can gain access to the firearm. A violation of this law is a misdemeanor. \nNote: This class is not a firearms training class. We offer firearms training as an option. \n\n\n\n\n\n\n\n\n\n\n\n\n\nPossible Reasons for Ineligibility for a concelead weapon firearm license\n\nThe physical inability to handle a firearm safely.\nA felony conviction (unless civil and firearm rights have been restored by the convicting authority).\nHaving adjudication withheld or sentence suspended on a felony or misdemeanor crime of violence unless three years have elapsed since probation or other conditions set by the court have been fulfilled.\nA conviction for a misdemeanor crime of violence in the last three years.\nA conviction for violation of controlled substance laws or multiple arrests for such offenses.\nA record of drug or alcohol abuse.\nTwo or more DUI convictions within the previous three years.\nBeing committed to a mental institution or adjudged incompetent or mentally defective.\nFailing to provide proof of proficiency with a firearm.\nHaving been issued a domestic violence injunction or an injunction against repeat violence that is currently in force.\nRenouncement of U.S. citizenship.\nA dishonorable discharge from the armed forces.\nBeing a fugitive from justice.\n\nClick here Disqualifying Conditions.
URL:https://floridasecuritylicense.org/course/concealed-firearm-license-l-open-carry-know-the-law-or-add-firearms-training-10/
LOCATION:Hialeah\, 1770 W 38 Place\, Hialeah\, 33012\, United States
CATEGORIES:Hialeah
ATTACH;FMTTYPE=image/jpeg:https://floridasecuritylicense.org/wp-content/uploads/2021/03/IMG-7422.jpg
ORGANIZER;CN="Instructor Carlos Fojo":MAILTO:instructor@securitylicense.com
END:VEVENT
END:VCALENDAR