BEGIN:VCALENDAR
VERSION:2.0
PRODID:-//Florida Security Licensing &amp; Firearms Defensive Training - ECPv6.3.2//NONSGML v1.0//EN
CALSCALE:GREGORIAN
METHOD:PUBLISH
X-ORIGINAL-URL:https://floridasecuritylicense.org
X-WR-CALDESC:Events for Florida Security Licensing &amp; Firearms Defensive Training
REFRESH-INTERVAL;VALUE=DURATION:PT1H
X-Robots-Tag:noindex
X-PUBLISHED-TTL:PT1H
BEGIN:VTIMEZONE
TZID:America/New_York
BEGIN:DAYLIGHT
TZOFFSETFROM:-0500
TZOFFSETTO:-0400
TZNAME:EDT
DTSTART:20260308T070000
END:DAYLIGHT
BEGIN:STANDARD
TZOFFSETFROM:-0400
TZOFFSETTO:-0500
TZNAME:EST
DTSTART:20261101T060000
END:STANDARD
END:VTIMEZONE
BEGIN:VEVENT
DTSTART;TZID=America/New_York:20260313T080000
DTEND;TZID=America/New_York:20260315T180000
DTSTAMP:20260423T050444
CREATED:20260124T174927Z
LAST-MODIFIED:20260308T122751Z
UID:10000556-1773388800-1773597600@floridasecuritylicense.org
SUMMARY:Security Officer license G Clermont
DESCRIPTION:To become a licensed Class G security officer in Florida\, you need to fulfill several requirements and complete specific steps. Here’s a detailed guide to help you through the process: \n1. Meet Basic Eligibility Requirements\n\nAge: You must be at least 21 years old.\nCitizenship: You must be a U.S. citizen or legal resident.\nBackground Check: You must have a clean criminal record. A background check will be conducted by the Florida Department of Agriculture and Consumer Services (FDACS). Certain criminal convictions may disqualify you.\n\n2. Complete a State-Approved G License Training Course\n\nTraining: You must complete a Class G Statewide Firearm License training course. This training must be provided by a licensed Class K Firearms Instructor.\n\nDuration: The training course typically includes at least 28 hours of instruction.\nContent: The course covers topics such as firearms safety\, the legal aspects of using force\, marksmanship\, and the proper handling of firearms.\nCertification: After completing the training\, you will receive a completion certificate that you will need for the licensing application.\n\n\n\n3. Pass the Firearms Proficiency Test\n\nYou must pass a written and practical firearms proficiency test as part of the training course. The test will evaluate your knowledge of firearms laws and your ability to handle and use a firearm safely and effectively.\n\n4. Submit an Application to FDACS\n\nApplication Form: You need to fill out the Class G Statewide Firearm License application. This can be done online through the FDACS website.\nFee: Pay the non-refundable application fee. As of the latest information\, the fee is $112 for a Class G license. Check the FDACS website for current fees.\n\n5. Complete a Background Check\n\nAs part of the application process\, you will need to undergo a criminal background check. You will be fingerprinted\, and the results will be reviewed by FDACS.\nYou can schedule your fingerprinting appointment through an approved fingerprinting service provider or at the Florida Department of Agriculture and Consumer Services. The fingerprinting fee is separate from the license application fee.\n\n6. Submit the Required Documents\n\nCompletion Certificate: Provide the certificate of completion from your Class G training course.\nProof of Citizenship or Legal Residency: Provide appropriate documentation to prove you are a U.S. citizen or legal resident.\n\n7. Pass a Psychological Examination (if applicable)\n\nWhile not always a requirement\, some employers might require you to pass a psychological evaluation to ensure you are fit for carrying a firearm. Check with your prospective employer and/or your instructor for this requirement.\n\n8. Receive Your Security Officer G license \n\nAfter you have completed all the above steps and FDACS has reviewed and approved your application\, you will receive your Class G Statewide Firearm License.\n\n9. Maintain Your G License\n\nRenewal: Every two years\, you must renew your G license. To renew\, you will need to complete a renewal application and may need to provide proof of ongoing qualifications or continuing education\, depending on FDACS requirements at the time of renewal.\n\nSummary Table of Requirements\n\n\n\nRequirement\nDetails\n\n\n\n\nAge\nAt least 21 years old\n\n\nCitizenship\nU.S. citizen or legal resident\n\n\nCriminal Background\nClean criminal record\n\n\nTraining Course\nClass G Statewide Firearm License course\, 28 hours\, from a Class K Instructor\n\n\nFirearms Proficiency Test\nPass written and practical tests\n\n\nApplication\nSubmit to FDACS with a $112 fee\n\n\nBackground Check\nCriminal background check with fingerprinting\n\n\nDocuments Required\nCompletion certificate\, proof of citizenship or residency\n\n\nPsychological Examination\nNot always required but may be needed for employment\n\n\nLicense Renewal\nEvery 2 years\, with yearly mandatory 4 hours re-qualification training\n\n\n\nFor the most accurate and up-to-date information\, always check the official Florida Department of Agriculture and Consumer Services (FDACS) website or contact them directly. \nIf you have further questions or need specific details about any part of the process\, feel free to ask! \n\n\n\n\n\n\n\n\n\n\n\n\n\n\nIn the event that you do not have a license such as a class D\, class C\, class CC or class M\, you can obtain the G license by enrolling in the Bundle course (D\, G and Concealed-Know the Law) or adding a class D course in person or online course. The D license qualifies you to obtain the companion security officer G  license. \nFollow us on Facebook
URL:https://floridasecuritylicense.org/course/security-officer-license-g-clermont-22/
LOCATION:Clermont\, 1008 East Avenue\, Clermont\, FL 34711\, Clermont\, FL\, FL 34711\, United States
CATEGORIES:Clermont
ATTACH;FMTTYPE=image/png:https://floridasecuritylicense.org/wp-content/uploads/2023/05/Security-Officer-G-license-class.png
ORGANIZER;CN="Instructor Carlos Fojo":MAILTO:instructor@securitylicense.com
END:VEVENT
BEGIN:VEVENT
DTSTART;TZID=America/New_York:20260314T090000
DTEND;TZID=America/New_York:20260314T130000
DTSTAMP:20260423T050444
CREATED:20260124T175003Z
LAST-MODIFIED:20260124T175003Z
UID:10000557-1773478800-1773493200@floridasecuritylicense.org
SUMMARY:Security License G Re-qualification Leesburg\, FL
DESCRIPTION:Security License G re-qualification\nThe Class “G” license holder must complete four hours of requalifying training each year [  504.5 KB ] . The Florida Deapartment of Agriculture and Consumer Services requires that licensees complete a yearly security license G re-qualification annual 4 hour course. \nTraining requirements consist of: \n\nA review of curriculum topics that may include recent changes in the law\n25 questions exam\nShooting at least string of 48 rounds\n\n\n\n\n\n\n\n\n\n\n\n\n\n\nThe licensee must score a minimum of 168 points. The top score is 240 points. The licensee will have three attempts to achieve a minimum score. If the licensee does not qualify\, remedial training will recommended for the licensee. After retraining\, the licensee can return and attempt re-qualify. \n\n\n\n\n\n\n\n\n\n\n\n\n\nTraining Locations:\nSecurity License G re-qualification training is an in-person class. The class takes place at a local range. Our school offers the course in Central and Southeast Florida. The training takes place several times during the month at the various locations. Look at our class schedule for available dates. \nFrom time to time we add additional training dates. In the event that you do not see a suitable date call us. We will assist you and check for possible alternatives. \n**Pre-Requisite**Must hold a valid State of Florida Security Officer G License.** \n\nOur package consists of the following: \n\nProof of Payment\nProficiency certificatificate sent via email wihtin 72 hours\, as required DOL.  \n\n\nDivision of Licensing Note to licensee:\nBy removing the issue date from your G license\, the Division intends to clarify\, when a licensee is to complete the 4 hour annual retraining requirement and report it. The reporting to the Division must be prior to the month and day which appears as the expiration date. \nDuring the first year of licensure\, licensees must complete and report their annual 4 hour retraining by the same month and day upon which their license will expire the following year. \nDuring the second year of licensure\, licensees must complete and report their annual 4 hour retraining prior to the actual expiration date of the license. \nAs a Class “K” Licensed Instructor\, I stress requirements and dates in Class “G” training to prevent license suspension. \nThe example below\, shows the required submission dates: \nIf your DATE OF LICENSE EXPIRATION is January 11\, 2026\n• You MUST complete and report your YEAR ONE retraining by January 11\, 2025\n• You MUST complete and report your YEAR TWO retraining after January 11\, 2025 but\nbefore January 11\, 2026 \nPlease note the following important points:\n\nIf you fail to complete and report YEAR ONE training during the first year of the valid term of your license. Your license will automatically be suspended. The license will remain in suspended status\, until you provide the division with an original CFP. The CFP must reflect completion of YEAR ONE training forthe first year.\nIf you fail to complete and report YEAR TWO training during the second year of the valid term of your license\, you will not be able to renew your license until you have provided the division with a CFP reflecting completion of YEAR TWO training. To avoid a late fee\, your renewal application must be received by the Division of Licensing on or before the expiration date of your license.\nIf the four-hour annual re-qualifying training isn’t completed before YEAR ONE or YEAR TWO anniversary dates\, or license expiration\, the entire 28-hour initial training will be required. Only after completing the training will your suspended or expiring license be reinstated or renewed.
URL:https://floridasecuritylicense.org/course/security-license-g-re-qualification-leesburg-fl-2/
LOCATION:Leesburg\, 1310 W SR 44\, Leesbrug\, 34748\, United States
CATEGORIES:Leesburg
ATTACH;FMTTYPE=image/png:https://floridasecuritylicense.org/wp-content/uploads/2023/05/Security-Officer-G-license-class.png
ORGANIZER;CN="Instructor Carlos Fojo":MAILTO:instructor@securitylicense.com
END:VEVENT
END:VCALENDAR