BEGIN:VCALENDAR
VERSION:2.0
PRODID:-//Florida Security Licensing &amp; Firearms Defensive Training - ECPv6.3.2//NONSGML v1.0//EN
CALSCALE:GREGORIAN
METHOD:PUBLISH
X-ORIGINAL-URL:https://floridasecuritylicense.org
X-WR-CALDESC:Events for Florida Security Licensing &amp; Firearms Defensive Training
REFRESH-INTERVAL;VALUE=DURATION:PT1H
X-Robots-Tag:noindex
X-PUBLISHED-TTL:PT1H
BEGIN:VTIMEZONE
TZID:America/New_York
BEGIN:DAYLIGHT
TZOFFSETFROM:-0500
TZOFFSETTO:-0400
TZNAME:EDT
DTSTART:20250309T070000
END:DAYLIGHT
BEGIN:STANDARD
TZOFFSETFROM:-0400
TZOFFSETTO:-0500
TZNAME:EST
DTSTART:20251102T060000
END:STANDARD
END:VTIMEZONE
BEGIN:VEVENT
DTSTART;TZID=America/New_York:20251006T080000
DTEND;TZID=America/New_York:20251009T180000
DTSTAMP:20260423T190028
CREATED:20250821T203139Z
LAST-MODIFIED:20251001T145636Z
UID:10000465-1759737600-1760032800@floridasecuritylicense.org
SUMMARY:Security Officer License D - Clermont\, FL (5-Seats Available)
DESCRIPTION:Class “D” Security Officer License Requirements\n\n\nAny individual who performs the services of a security officer must have a Class “D” license. \nEligibility Requirements for your security license:\nTo qualify for a license\, you must: \n\nBe at least 18 years old.\nBe a citizen or legal resident alien of the United States or have been granted authority to work in this country by the Department of Homeland Security\, U.S. Citizenship and Immigration Services.\n\nTraining/Experience\nYou must submit proof of successful completion of a minimum of 40 hours of professional training provided by a security officer school or training facility licensed by the Florida Department of Agriculture and Consumer Services. \nExceptions: \n\nIf you are a currently employed law enforcement officer\, correctional officer\, or correctional probation officer certified by the Florida Department of Law Enforcement’s Criminal Justice Standards and Training Commission\, a copy of your valid ID card issued by your employing law enforcement agency is sufficient to satisfy the training requirement.\nIf you have successfully completed a training program approved by the Florida Criminal Justice Standards and Training Commission for certification as a law enforcement officer\, correctional officer\, or correctional probation officer\, a copy of your certificate of completion is sufficient to satisfy the training requirement.\nIf you qualify for a Class “DI” security officer instructor license under Rule 5N-1.138(1)(e)-(g)\, Florida Administrative Code\, proof of such qualification is sufficient to satisfy the training requirement.\nIf you received relevant military training or education during service in the United States Armed Forces\, proof of such training or education is sufficient to satisfy the training requirement.\n\n\n\n\nThis State of Florida 42 hours course meets the State Curriculum and Certification required to obtain the Security Officer Unarmed D License. This course is provided by a Security Officer Training Facility licensed by the Department of Agriculture and Consumer Services. The instructor holds a DI license to teach and certify you once you complete the required curriculum and upon successful completion of the course testing. \n\n\nOur package consists of the following: 40 hours of coursework\, exam review\, and 2 hours of exam. To learn more or register click here for your license D.\n\n\n\nFollow us on Facebook
URL:https://floridasecuritylicense.org/course/security-officer-license-d-clermont-fl/
LOCATION:Clermont\, 1008 East Avenue\, Clermont\, FL 34711\, Clermont\, FL\, FL 34711\, United States
ATTACH;FMTTYPE=image/png:https://floridasecuritylicense.org/wp-content/uploads/2023/05/Security-Officer-D-license.png
ORGANIZER;CN="Instructor Carlos Fojo":MAILTO:instructor@securitylicense.com
END:VEVENT
BEGIN:VEVENT
DTSTART;TZID=America/New_York:20251009T170000
DTEND;TZID=America/New_York:20251009T190000
DTSTAMP:20260423T190028
CREATED:20250827T130642Z
LAST-MODIFIED:20250827T130642Z
UID:10000474-1760029200-1760036400@floridasecuritylicense.org
SUMMARY:Concealed Weapon Firearm License - Know the law. Clermont
DESCRIPTION:Concealed Weapon Firearm License course is designed for persons that want to know where it is legal to carry.\nConcealed weapon firearm license a.k.a. CCW class covers the theory of basic fundamentals of safely handling firearms. Offers a review of laws that pertain to the legal carrying of your gun and other weapons within the State of Florida. In the State of Florida\, you are not required to complete firearms training. However\, you are required to discharge one round in the presence of the certifying instructor. \nIndividuals such as private Security Officers\, Law Enforcement Officers and Civilians that want to enhance their knowledge in laws and application of safety in carrying their weapon usually benefit from this basic theory course. \nLawful Self-Defense\n\n\nUse of Deadly Force for Lawful Self-Defense\nSection 776.012\, Florida Statutes (F.S.)\, is important Florida law governing the justifiable use of force\, including deadly force by private citizens. The link to this particularly important law is provided to our concealed weapon firearm license holders and applicants to ensure access to the most up-to-date statutory language outlining acceptable use of force by Floridians. \nFirearm Safety Tips for CCW carriers\n\n\nThese simple steps may prevent needless and tragic injury or death so often associated with the careless storage and handling of firearms. Responsible and informed firearm owners use these storage and handling methods\, without exception\, to ensure the safety of those in the home. \n\nNever store or handle a loaded firearm in the home. Tragedy can occur in only one instance of negligence.\nKeep a trigger-locking device on the firearm\, in addition to keeping it locked away\, as an additional safety factor. There is no such thing as overemphasizing firearm safety.\nLock firearms and ammunition in separate locations. This is a good backup precaution.\nNever point a firearm at anyone\, loaded or unloaded. Too often the unintentional discharge of guns\, even those believed to be unloaded\, has killed or wounded innocent persons.\nEducate everyone in the home about firearms safety — especially children. Firearms are not toys. Emphasize the danger in\, and outside\, the home. Give reinforcement training frequently.\n\nFirearm owners must always remember that a firearm may protect life\, but it can also be a potential deadly threat to innocent persons. The proper storing and handling of a firearm must always be foremost in the mind of the owner who is responsible for the safety of those in the home. \nSection 790.174\, Florida Statutes\, requires a loaded firearm in the home to be stored in a locked box container or secured with a trigger lock if the owner reasonably knows that a child under the age of 16 can gain access to the firearm. A violation of this law is a misdemeanor. \nNote: This class is not a firearms training class. We offer firearms training as an option. \n\n\n\n\n\n\n\n\n\n\n\n\n\nPossible Reasons for Ineligibility for a concelead weapon firearm license\n\nThe physical inability to handle a firearm safely.\nA felony conviction (unless civil and firearm rights have been restored by the convicting authority).\nHaving adjudication withheld or sentence suspended on a felony or misdemeanor crime of violence unless three years have elapsed since probation or other conditions set by the court have been fulfilled.\nA conviction for a misdemeanor crime of violence in the last three years.\nA conviction for violation of controlled substance laws or multiple arrests for such offenses.\nA record of drug or alcohol abuse.\nTwo or more DUI convictions within the previous three years.\nBeing committed to a mental institution or adjudged incompetent or mentally defective.\nFailing to provide proof of proficiency with a firearm.\nHaving been issued a domestic violence injunction or an injunction against repeat violence that is currently in force.\nRenouncement of U.S. citizenship.\nA dishonorable discharge from the armed forces.\nBeing a fugitive from justice.\n\nClick here Disqualifying Conditions.
URL:https://floridasecuritylicense.org/course/concealed-weapon-firearm-license-know-the-law-clermont/
LOCATION:Clermont\, 1008 East Avenue\, Clermont\, FL 34711\, Clermont\, FL\, FL 34711\, United States
ATTACH;FMTTYPE=image/jpeg:https://floridasecuritylicense.org/wp-content/uploads/2021/03/IMG-7422.jpg
ORGANIZER;CN="Instructor Carlos Fojo":MAILTO:instructor@securitylicense.com
END:VEVENT
END:VCALENDAR